Workbook
Name ad: '[1]Model Settings'!$C$4
Name AdditionalPolicyCost_Domestic: '[2]Policy billing'!$D$4
Name Area: #REF!
Name AutoGen_Capacity1: [2]Autogeneration!$C$12
Name AutoGen_Capacity2: [2]Autogeneration!$D$12
Name AutoGen_Capacity3: [2]Autogeneration!$E$12
Name AutoGen_Capacity4: [2]Autogeneration!$F$12
Name AutoGen_LoadFactor1: [3]Autogeneration!$C$8
Name AutoGen_LoadFactor2: [3]Autogeneration!$D$8
Name AutoGen_LoadFactor3: [4]Autogeneration!$E$8
Name AutoGen_LoadFactor4: [2]Autogeneration!$F$8
Name AvSiteCapacity: '[5]IRR Calc'!$F$19
Name B_Regs: '[6]Source Numbers for Master Lists'!$J$13:$J$17
Name C_T: '[6]Source Numbers for Master Lists'!$J$42:$J$43
Name CapPay1_AnnualMaxCapacity: '[2]Capacity Payment 1'!$C$11
Name CapPay1_ChargeBack: '[2]Capacity Payment 1'!$C$9
Name CapPay1_HurdleRateAdjustment: '[2]Capacity Payment 1'!$D$17
Name CapPay1_Index: '[2]Capacity Payment 1'!$C$17
Name CapPay1_Payment_Matrix: '[2]Capacity Payment 1'!$G$6
Name CapPay1_Switch_String: '[2]Capacity Payment 1'!$B$4
Name CapPay1_Tech: '[2]Capacity Payment 1'!$B$17
Name CarbonEmissions: #REF!
Name CarbonPrice_ChargeBack: #REF!
Name CBA_end: '[7]CBA control'!$C$19
Name CBA_start: '[7]CBA control'!$C$18
Name ccl: '[6]Source Numbers for Master Lists'!$J$21:$J$22
Name CfD1_AnnualMaxCapacity: '[2]CfD 1'!$C$15
Name CfD1_ChargeBack: '[2]CfD 1'!$C$13
Name CfD1_HurdleRateAdjustment: '[2]CfD 1'!$D$23
Name CfD1_Index: '[2]CfD 1'!$C$23
Name CfD1_Payment_Matrix: '[2]CfD 1'!$G$6
Name CfD1_PaymentType_String: '[2]CfD 1'!$C$9
Name CfD1_Switch_String: '[2]CfD 1'!$B$4
Name CfD1_Tech: '[2]CfD 1'!$B$23
Name CfD1_UpsideOption: '[2]CfD 1'!$C$11
Name CfD11_AllowForDistortion: #REF!
Name CfD11_AnnualMaxCapacity: #REF!
Name CfD11_ChargeBack: #REF!
Name CfD11_HurdleRateAdjustment: #REF!
Name CfD11_Index: #REF!
Name CfD11_Name_String: #REF!
Name CfD11_Payment_Matrix: #REF!
Name CfD11_PaymentType_String: #REF!
Name CfD11_ReferencePriceType: #REF!
Name CfD11_Switch_String: #REF!
Name CfD11_Tech: #REF!
Name CfD11_UpsideOption: #REF!
Name CfD19_AllowForDistortion: #REF!
Name CfD19_AnnualMaxCapacity: #REF!
Name CfD19_ChargeBack: #REF!
Name CfD19_HurdleRateAdjustment: #REF!
Name CfD19_Index: #REF!
Name CfD19_MerchantPPA_Matrix: #REF!
Name CfD19_Name_String: #REF!
Name CfD19_Payment_Matrix: #REF!
Name CfD19_PaymentType_String: #REF!
Name CfD19_ReferencePriceType: #REF!
Name CfD19_Switch_String: #REF!
Name CfD19_Tech: #REF!
Name CfD19_UpsideOption: #REF!

Sheet USER GUIDE
C6: Key
D7: User input
D8: Pick list
D9: Output
C12: User guide | O12: Assumptions
C13: Background: This tool was developed to help the Community Energy Group in Matlock asses the financial suitability of a solar PV installation. This user guide will help explain the tool, as well as how to use it. The tool works in two separate ways: 1. Allows the user to assess the two priority sites chosen in the study (Twiggs Stores & Highfields Upper) 2. Create a new model to assess the financial viability a new site The instructions differ if assessing a new site to the study sites: If assessing Twiggs/Highfields: 1. Select either site from the tabs at the bottom of the excel sheet. 2. After selecting either site a number of inputs will be automatically generated (in green), this data comes is coded into the sheet and comes from the study undertaken on these two sites. 3. Jump to section 1 - If there are any additional CAPEX costs, input them here. 4. On section 2 - Input any additional OPEX costs associated with the project. Additionally, input the annual CE allocated income. 5. Section 3 - Repex is included within year 11 for Twiggs and Highfields. 3. Jump to Section 4 - Electricity Revenue Streams in the inputs. Here, input the proposed electricity sale prices - 15p/kWh = .£150/MWh 4. Complete the inputs in Section 5 - External Variables 5. The above three steps will populate the financial OUTPUTS as well as the CASHFLOW TABLE and GRAPH 6. Modify the inputs to model certain financial scenarios If assessing a new site: 1. Select "New site" from tabs at the bottom of the excel sheet. 2. Input the proposed system size, electricity consumption, and solar radiance* 3. Fill in the boxes in red under Section 1 - CAPEX . (If there is nothing to input for one of these i.e., no DNO cost then input 0). 4. Fill in Section 2 - OPEX. 5. Complete the Section 3 - REPEX. This accounts for repair costs within a selected year during the project. (Again, if there is no repex leave this blank and input N/A in the inverter replacement dropdown). 6. Complete Section 4 - Electricity Revenue Streams in the inputs. Here, input the proposed electricity sale prices - 15p/kWh = .£150/MWh 7. Complete the inputs in Section 5 - External Variables 8. The above three steps will populate the financial OUTPUTS as well as the CASHFLOW TABLE and GRAPH 9. Modify the inputs to model certain financial scenarios To reset the dashboard. Simply clear all the data already inputed in the orange input cells. *To calculate an areas solar radiance (kWp) use this website: https://re.jrc.ec.europa.eu/pvg_tools/en/tools.html#PVP simply input postcode and find the kWp value. **Note also the key above this user guide. Which should aid in identifying which cells in the dashboard need filling. | O13: Site Selection - This dropdown accounts for the amount of electricity that will be consumed on site vs exported to the grid. For example, if a building is open weekdays only (5/7 days per week) 71% of the electricity will be consumed on site and 29% exported to the grid. This is a percentage of the annual electricty generation (cell H11). Electricity Revenue Streams - There are two different electricty revenue streams per site - Revenue stream 1 is the income generated from electricity sales back to the site. The price of this revenue stream is dictated in cell D30 and will be multiplied by the amount of electricty consumed on site (as mentioned above). - Revenue stream 2 is the income generated from electricity exports back to the grid via a secondary PPA. The price of this is dictated in cell D31 and will be multiplied by the amount of electricy exported to the grid (as mentioned above). Systems Costs - CAPEX: hardware and installation costs - OPEX: maintenance costs for the solar PV system - REPEX: repair/replacement costs of the solar PV system All costs have been assumed by using recent softmarket testing and industry specific experience. All costs should be refined by contacting a solar PV installer who will be able to provide site specific, updated quotes. Investor ROI - The percentage return given to investors has been divided over the full duration of the energy contract, 20 years. Using the example, 4% return on a £100k investment over 20 years. An Investor will receive £4k over the duration of the energy contract. This will be £5k per month as well as their dividend of £200. This equates to £5,200 for 20 years.

Sheet Investor table
D6: Investor table | E6: Amount invested (£) | F6: Proportion owned | G6: Yearly return (£) | H6: Total income (£) | I6: Total profit (£) | J6: SPB | K6: Column1
D8: SUM | E8: =SUM(E11:E100) -> 115250 | F8: =SUM(F11:F100) -> #DIV/0! | G8: =SUM(G10:G100) -> #DIV/0! | H8: =SUM(H10:H100) -> #DIV/0! | I8: =SUM(I10:I100) -> #DIV/0! | J8: =(E8/G8) -> #DIV/0!
D10: CEG | E10: N/A | F10: N/A | G10: ='New Site'!R18 -> 0 | H10: =G10*'New Site'!N10 -> 0 | I10: =G10*'New Site'!N10 -> 0
D11: Investor A | E11: 1500 | F11: =E11/'New Site'!$D$21 -> #DIV/0! | G11: =F11*'Site - NS'!$F$53 -> #DIV/0! | H11: =G11*'New Site'!$N$10 -> #DIV/0! | I11: =(G11*'New Site'!$N$10)-E11 -> #DIV/0! | J11: =(E11/G11) -> #DIV/0! | M11: <=Not currently working
D12: Investor B | E12: 3000 | F12: =E12/'New Site'!$D$21 -> #DIV/0! | G12: =F12*'Site - NS'!$F$53 -> #DIV/0! | H12: =G12*'New Site'!$N$10 -> #DIV/0! | I12: =(G12*'New Site'!$N$10)-E12 -> #DIV/0! | J12: =(E12/G12) -> #DIV/0!
D13: Investor C | E13: 7800 | F13: =E13/'New Site'!$D$21 -> #DIV/0! | G13: =F13*'Site - NS'!$F$53 -> #DIV/0! | H13: =G13*'New Site'!$N$10 -> #DIV/0! | I13: =(G13*'New Site'!$N$10)-E13 -> #DIV/0! | J13: =(E13/G13) -> #DIV/0!
D14: Investor D | E14: 700 | F14: =E14/'New Site'!$D$21 -> #DIV/0! | G14: =F14*'Site - NS'!$F$53 -> #DIV/0! | H14: =G14*'New Site'!$N$10 -> #DIV/0! | I14: =(G14*'New Site'!$N$10)-E14 -> #DIV/0! | J14: =(E14/G14) -> #DIV/0!
D15: Investor E | E15: 1600 | F15: =E15/'New Site'!$D$21 -> #DIV/0! | G15: =F15*'Site - NS'!$F$53 -> #DIV/0! | H15: =G15*'New Site'!$N$10 -> #DIV/0! | I15: =(G15*'New Site'!$N$10)-E15 -> #DIV/0! | J15: =(E15/G15) -> #DIV/0!
D16: Investor F | E16: 3200 | F16: =E16/'New Site'!$D$21 -> #DIV/0! | G16: =F16*'Site - NS'!$F$53 -> #DIV/0! | H16: =G16*'New Site'!$N$10 -> #DIV/0! | I16: =(G16*'New Site'!$N$10)-E16 -> #DIV/0! | J16: =(E16/G16) -> #DIV/0!
D17: Investor G | E17: 2100 | F17: =E17/'New Site'!$D$21 -> #DIV/0! | G17: =F17*'Site - NS'!$F$53 -> #DIV/0! | H17: =G17*'New Site'!$N$10 -> #DIV/0! | I17: =(G17*'New Site'!$N$10)-E17 -> #DIV/0! | J17: =(E17/G17) -> #DIV/0!
D18: Investor H | E18: 550 | F18: =E18/'New Site'!$D$21 -> #DIV/0! | G18: =F18*'Site - NS'!$F$53 -> #DIV/0! | H18: =G18*'New Site'!$N$10 -> #DIV/0! | I18: =(G18*'New Site'!$N$10)-E18 -> #DIV/0! | J18: =(E18/G18) -> #DIV/0!
D19: Investor I | E19: 1000 | F19: =E19/'New Site'!$D$21 -> #DIV/0! | G19: =F19*'Site - NS'!$F$53 -> #DIV/0! | H19: =G19*'New Site'!$N$10 -> #DIV/0! | I19: =(G19*'New Site'!$N$10)-E19 -> #DIV/0! | J19: =(E19/G19) -> #DIV/0!
D20: Investor J | E20: 900 | F20: =E20/'New Site'!$D$21 -> #DIV/0! | G20: =F20*'Site - NS'!$F$53 -> #DIV/0! | H20: =G20*'New Site'!$N$10 -> #DIV/0! | I20: =(G20*'New Site'!$N$10)-E20 -> #DIV/0! | J20: =(E20/G20) -> #DIV/0!
D21: Investor K | E21: 1400 | F21: =E21/'New Site'!$D$21 -> #DIV/0! | G21: =F21*'Site - NS'!$F$53 -> #DIV/0! | H21: =G21*'New Site'!$N$10 -> #DIV/0! | I21: =(G21*'New Site'!$N$10)-E21 -> #DIV/0! | J21: =(E21/G21) -> #DIV/0!
D22: Investor L | E22: 5500 | F22: =E22/'New Site'!$D$21 -> #DIV/0! | G22: =F22*'Site - NS'!$F$53 -> #DIV/0! | H22: =G22*'New Site'!$N$10 -> #DIV/0! | I22: =(G22*'New Site'!$N$10)-E22 -> #DIV/0! | J22: =(E22/G22) -> #DIV/0!
D23: Investor M | E23: 6000 | F23: =E23/'New Site'!$D$21 -> #DIV/0! | G23: =F23*'Site - NS'!$F$53 -> #DIV/0! | H23: =G23*'New Site'!$N$10 -> #DIV/0! | I23: =(G23*'New Site'!$N$10)-E23 -> #DIV/0! | J23: =(E23/G23) -> #DIV/0!
D24: Investor N | E24: 80000 | F24: =E24/'New Site'!$D$21 -> #DIV/0! | G24: =F24*'Site - NS'!$F$53 -> #DIV/0! | H24: =G24*'New Site'!$N$10 -> #DIV/0! | I24: =(G24*'New Site'!$N$10)-E24 -> #DIV/0! | J24: =(E24/G24) -> #DIV/0!
D25: ...
D26: ...
D27: ...

Sheet Twiggs Stores
D5: Matlock Town Council: Solar PV financial tool
C7: INPUTS | M7: OUTPUTS
C9: SITE SELECTION | M9: FINANCIAL CASHFLOW | O9: SYSTEM FINANCIAL METRICS | Q9: PV SYSYEM
C10: Site selection | D10: Twiggs stores | H10: Site values | M10: Year in review | N10: 20 | O10: SPY | P10: =D21/U27 -> 13.168576 | Q10: Projected energy generation (MWh) | R10: =IF(D10="Twiggs steelyard",Scenarios!J11,IF(D10="Twiggs stores",Scenarios!N11,IF(D10="Highfields upper",Scenarios!R11,IF(D10="Highfields lower",Scenarios!V11,IF(D10="New site",Scenarios!W11))))) -> 46.86
C11: Site operation type | D11: Twiggs stores | G11: Site annual electricity consumption (MWh) | H11: 75 | M11: Cumulative project income | N11: =Summary!G123 -> 122116.47 | O11: IRR (20 years) | P11: =VLOOKUP(O11,'Site - TS'!B10:Y13,24,FALSE) -> 0.05205279 | Q11: Site savings (£/yr) | R11: ='Site - TS'!C31 -> 764.62974
G12: System size (kWp) | H12: 55 | I12: =IF(H12="",IF(D10="New site","Must input own values",IF(D10="Twiggs stores",70,IF(D10="Twiggs steelyard",80,IF(D10="Highfields upper",150,IF(D10="Highfields lower",60,"N/A"))))),"") | M12: Project cashflow | N12: =Summary!G124 -> 37702.551 | O12: NPV (20 years) | P12: =VLOOKUP(O12,'Site - TS'!B11:Y15,24,FALSE) -> -19583.524 | Q12: Annual carbon savings (tCO2e) | R12: ='Site - TS'!C37 -> 9.7619912
G13: Regional solar irradiance | H13: 852 | I13: =IF(H13="",IF(D10="Twiggs steelyard",868,IF(D10="Twiggs stores",852,IF(D10="Highfields upper",915,IF(D10="Highfields lower",894,IF(D10="New site","Must input own values"))))),"") | M13: CEG benefit fund cashflow | N13: =Summary!G128 -> 0 | O13: Average ROI (20 years) | P13: =VLOOKUP(O13,'Site - TS'!B12:Y16,2,FALSE) -> 0.082883418
M14: CEG surplus cashflow | N14: =Summary!G120 -> 34952.551
C15: 1. CAPEX | G15: 2. OPEX | M15: Expected annual opex | N15: =Summary!G121 -> 488.76015
D16: Site values | H16: Site values | M16: Expected annual income | N16: =Summary!G122 -> 6687.9613
C17: Total capex for PV system (£) | D17: 68750 | G17: PV maintenance cost/yr (£) | H17: 336
C18: Additional capex costs (£) | D18: 0 | G18: Additional opex cost/yr (£) | H18: 0
C19: DNO cost (£) | D19: 0 | G19: Community energy fund allocation cost/yr (£) | H19: 0
C21: TOTAL CAPEX (£) | D21: =SUM(D17:D19) -> 68750 | G21: TOTAL OPEX (£) | H21: =SUM(H17:H19) -> 336
M22: YEARLY CASH FLOWS TABLE
C24: 3. REPEX | N24: COSTS | R24: ENERGY SALES | U24: INVESTOR & CEG DIVIDENDS | X24: CASH FLOWS
C25: Inverter cost (£) | D25: 7500 | M25: YEAR IN STUDY | N25: CAPEX COSTS | O25: REPEX COSTS | P25: OPEX COSTS | Q25: TOTAL COSTS | R25: ENERGY SALES TO SITE | S25: EXPORT INCOME | T25: TOTAL PROJECT INCOME | U25: NET INCOME PRE DIVIDENDS | V25: INVESTOR DIVIDENDS | W25: INVESTOR CASH POSITION | X25: NET INCOME POST DIVIDENDS | Y25: PROJECT CASHFLOW | Z25: CEG BENEFIT FUND | AA25: CEG BENEFIT FUND CASHFLOW | AB25: CEG SURPLUS CASHFLOW
C26: Inverter replacement year | D26: 11 | M26: 0 | N26: =D21 -> 68750 | O26: =IF(D10="New site",D19+D18,E18+E19) -> 0 | Q26: =P26+O26+N26 -> 68750 | U26: =T26-Q26 -> -68750 | W26: =-D21 -> -68750 | Y26: =-Q26 -> -68750 | AA26: 0 | AB26: 0
M27: 1 | O27: ='Site - TS'!F$60 -> 0 | P27: =H21 -> 336 | Q27: =P27+O27+N27 -> 336 | R27: ='Site - TS'!F$32 -> 5020.9412 | S27: ='Site - TS'!F$34 -> 535.82067 | T27: =R27+S27 -> 5556.7619 | U27: =T27-Q27 -> 5220.7619 | V27: =($D$21+$D$21*$H$31)/20 -> 3575 | W27: =$W26+$V27 -> -65175 | X27: =U27-V27 -> 1645.7619 | Y27: =Y26+U27 -> -63529.238 | Z27: =H19 -> 0 | AA27: =AA26+Z27 -> 0 | AB27: =AB26+X27 -> 1645.7619
C28: 4. ELECTRICITY REVENUE STREAMS | G28: 5. EXTERNAL VARIABLES | M28: 2 | O28: ='Site - TS'!G$60 -> 0 | P28: =P27*(1+$H$32) -> 342.72 | Q28: =P28+O28+N28 -> 342.72 | R28: ='Site - TS'!G$32 -> 5070.1464 | S28: ='Site - TS'!G$34 -> 541.07171 | T28: =R28+S28 -> 5611.2182 | U28: =T28-Q28 -> 5268.4982 | V28: =($D$21+$D$21*$H$31)/20 -> 3575 | W28: =$W27+$V28 -> -61600 | X28: =U28-V28 -> 1693.4982 | Y28: =Y27+U28 -> -58260.74 | Z28: =Z27*(1+$H$32) -> 0 | AA28: =AA27+Z28 -> 0 | AB28: =AB27+X28 -> 3339.2601
H29: Site values | M29: 3 | O29: ='Site - TS'!H$60 -> 0 | P29: =P28*(1+$H$32) -> 349.5744 | Q29: =P29+O29+N29 -> 349.5744 | R29: ='Site - TS'!H$32 -> 5119.8339 | S29: ='Site - TS'!H$34 -> 546.37422 | T29: =R29+S29 -> 5666.2081 | U29: =T29-Q29 -> 5316.6337 | V29: =($D$21+$D$21*$H$31)/20 -> 3575 | W29: =$W28+$V29 -> -58025 | X29: =U29-V29 -> 1741.6337 | Y29: =Y28+U29 -> -52944.106 | Z29: =Z28*(1+$H$32) -> 0 | AA29: =AA28+Z29 -> 0 | AB29: =AB28+X29 -> 5080.8937
C30: Site PPA electrictity price (£/MWh) | D30: 137 | G30: Current site energy price (£/MWh) | H30: 152 | M30: 4 | O30: ='Site - TS'!I$60 -> 0 | P30: =P29*(1+$H$32) -> 356.56589 | Q30: =P30+O30+N30 -> 356.56589 | R30: ='Site - TS'!I$32 -> 5170.0083 | S30: ='Site - TS'!I$34 -> 551.72868 | T30: =R30+S30 -> 5721.7369 | U30: =T30-Q30 -> 5365.171 | V30: =($D$21+$D$21*$H$31)/20 -> 3575 | W30: =$W29+$V30 -> -54450 | X30: =U30-V30 -> 1790.171 | Y30: =Y29+U30 -> -47578.935 | Z30: =Z29*(1+$H$32) -> 0 | AA30: =AA29+Z30 -> 0 | AB30: =AB29+X30 -> 6871.0648
C31: Secondary PPA electrcity price (£/MWh) | D31: 55 | G31: Investor ROI | H31: 0.04 | M31: 5 | O31: ='Site - TS'!J$60 -> 0 | P31: =P30*(1+$H$32) -> 363.69721 | Q31: =P31+O31+N31 -> 363.69721 | R31: ='Site - TS'!J$32 -> 5220.6743 | S31: ='Site - TS'!J$34 -> 557.13562 | T31: =R31+S31 -> 5777.81 | U31: =T31-Q31 -> 5414.1128 | V31: =($D$21+$D$21*$H$31)/20 -> 3575 | W31: =$W30+$V31 -> -50875 | X31: =U31-V31 -> 1839.1128 | Y31: =Y30+U31 -> -42164.822 | Z31: =Z30*(1+$H$32) -> 0 | AA31: =AA30+Z31 -> 0 | AB31: =AB30+X31 -> 8710.1775
G32: Inflation (%) | H32: 0.02 | M32: 6 | O32: ='Site - TS'!K$60 -> 0 | P32: =P31*(1+$H$32) -> 370.97115 | Q32: =P32+O32+N32 -> 370.97115 | R32: ='Site - TS'!K$32 -> 5271.8369 | S32: ='Site - TS'!K$34 -> 562.59555 | T32: =R32+S32 -> 5834.4325 | U32: =T32-Q32 -> 5463.4613 | V32: =($D$21+$D$21*$H$31)/20 -> 3575 | W32: =$W31+$V32 -> -47300 | X32: =U32-V32 -> 1888.4613 | Y32: =Y31+U32 -> -36701.361 | Z32: =Z31*(1+$H$32) -> 0 | AA32: =AA31+Z32 -> 0 | AB32: =AB31+X32 -> 10598.639
G33: Yearly solar PV output degredation | H33: 0.01 | M33: 7 | O33: ='Site - TS'!L$60 -> 0 | P33: =P32*(1+$H$32) -> 378.39057 | Q33: =P33+O33+N33 -> 378.39057 | R33: ='Site - TS'!L$32 -> 5323.5009 | S33: ='Site - TS'!L$34 -> 568.10899 | T33: =R33+S33 -> 5891.6099 | U33: =T33-Q33 -> 5513.2194 | V33: =($D$21+$D$21*$H$31)/20 -> 3575 | W33: =$W32+$V33 -> -43725 | X33: =U33-V33 -> 1938.2194 | Y33: =Y32+U33 -> -31188.142 | Z33: =Z32*(1+$H$32) -> 0 | AA33: =AA32+Z33 -> 0 | AB33: =AB32+X33 -> 12536.858
G34: Discount rate (%) | H34: 0.1 | M34: 8 | O34: ='Site - TS'!M$60 -> 0 | P34: =P33*(1+$H$32) -> 385.95838 | Q34: =P34+O34+N34 -> 385.95838 | R34: ='Site - TS'!M$32 -> 5375.6713 | S34: ='Site - TS'!M$34 -> 573.67646 | T34: =R34+S34 -> 5949.3477 | U34: =T34-Q34 -> 5563.3893 | V34: =($D$21+$D$21*$H$31)/20 -> 3575 | W34: =$W33+$V34 -> -40150 | X34: =U34-V34 -> 1988.3893 | Y34: =Y33+U34 -> -25624.752 | Z34: =Z33*(1+$H$32) -> 0 | AA34: =AA33+Z34 -> 0 | AB34: =AB33+X34 -> 14525.248
M35: 9 | O35: ='Site - TS'!N$60 -> 0 | P35: =P34*(1+$H$32) -> 393.67755 | Q35: =P35+O35+N35 -> 393.67755 | R35: ='Site - TS'!N$32 -> 5428.3528 | S35: ='Site - TS'!N$34 -> 579.29849 | T35: =R35+S35 -> 6007.6513 | U35: =T35-Q35 -> 5613.9738 | V35: =($D$21+$D$21*$H$31)/20 -> 3575 | W35: =$W34+$V35 -> -36575 | X35: =U35-V35 -> 2038.9738 | Y35: =Y34+U35 -> -20010.779 | Z35: =Z34*(1+$H$32) -> 0 | AA35: =AA34+Z35 -> 0 | AB35: =AB34+X35 -> 16564.221
M36: 10 | O36: ='Site - TS'!O$60 -> 0 | P36: =P35*(1+$H$32) -> 401.5511 | Q36: =P36+O36+N36 -> 401.5511 | R36: ='Site - TS'!O$32 -> 5481.5507 | S36: ='Site - TS'!O$34 -> 584.97561 | T36: =R36+S36 -> 6066.5263 | U36: =T36-Q36 -> 5664.9752 | V36: =($D$21+$D$21*$H$31)/20 -> 3575 | W36: =$W35+$V36 -> -33000 | X36: =U36-V36 -> 2089.9752 | Y36: =Y35+U36 -> -14345.803 | Z36: =Z35*(1+$H$32) -> 0 | AA36: =AA35+Z36 -> 0 | AB36: =AB35+X36 -> 18654.197
M37: 11 | O37: 7500 | P37: =P36*(1+$H$32) -> 409.58213 | Q37: =P37+O37+N37 -> 7909.5821 | R37: ='Site - TS'!P$32 -> 5535.2699 | S37: ='Site - TS'!P$34 -> 590.70837 | T37: =R37+S37 -> 6125.9783 | U37: =T37-Q37 -> -1783.6039 | V37: =($D$21+$D$21*$H$31)/20 -> 3575 | W37: =$W36+$V37 -> -29425 | X37: =U37-V37 -> -5358.6039 | Y37: =Y36+U37 -> -16129.407 | Z37: =Z36*(1+$H$32) -> 0 | AA37: =AA36+Z37 -> 0 | AB37: =AB36+X37 -> 13295.593
M38: 12 | O38: ='Site - TS'!Q$60 -> 0 | P38: =P37*(1+$H$32) -> 417.77377 | Q38: =P38+O38+N38 -> 417.77377 | R38: ='Site - TS'!Q$32 -> 5589.5155 | S38: ='Site - TS'!Q$34 -> 596.49731 | T38: =R38+S38 -> 6186.0128 | U38: =T38-Q38 -> 5768.2391 | V38: =($D$21+$D$21*$H$31)/20 -> 3575 | W38: =$W37+$V38 -> -25850 | X38: =U38-V38 -> 2193.2391 | Y38: =Y37+U38 -> -10361.168 | Z38: =Z37*(1+$H$32) -> 0 | AA38: =AA37+Z38 -> 0 | AB38: =AB37+X38 -> 15488.832
M39: 13 | O39: ='Site - TS'!R$60 -> 0 | P39: =P38*(1+$H$32) -> 426.12924 | Q39: =P39+O39+N39 -> 426.12924 | R39: ='Site - TS'!R$32 -> 5644.2928 | S39: ='Site - TS'!R$34 -> 602.34299 | T39: =R39+S39 -> 6246.6358 | U39: =T39-Q39 -> 5820.5065 | V39: =($D$21+$D$21*$H$31)/20 -> 3575 | W39: =$W38+$V39 -> -22275 | X39: =U39-V39 -> 2245.5065 | Y39: =Y38+U39 -> -4540.6617 | Z39: =Z38*(1+$H$32) -> 0 | AA39: =AA38+Z39 -> 0 | AB39: =AB38+X39 -> 17734.338
M40: 14 | O40: ='Site - TS'!S$60 -> 0 | P40: =P39*(1+$H$32) -> 434.65183 | Q40: =P40+O40+N40 -> 434.65183 | R40: ='Site - TS'!S$32 -> 5699.6069 | S40: ='Site - TS'!S$34 -> 608.24595 | T40: =R40+S40 -> 6307.8528 | U40: =T40-Q40 -> 5873.201 | V40: =($D$21+$D$21*$H$31)/20 -> 3575 | W40: =$W39+$V40 -> -18700 | X40: =U40-V40 -> 2298.201 | Y40: =Y39+U40 -> 1332.5393 | Z40: =Z39*(1+$H$32) -> 0 | AA40: =AA39+Z40 -> 0 | AB40: =AB39+X40 -> 20032.539
M41: 15 | O41: ='Site - TS'!T$60 -> 0 | P41: =P40*(1+$H$32) -> 443.34486 | Q41: =P41+O41+N41 -> 443.34486 | R41: ='Site - TS'!T$32 -> 5755.463 | S41: ='Site - TS'!T$34 -> 614.20676 | T41: =R41+S41 -> 6369.6698 | U41: =T41-Q41 -> 5926.3249 | V41: =($D$21+$D$21*$H$31)/20 -> 3575 | W41: =$W40+$V41 -> -15125 | X41: =U41-V41 -> 2351.3249 | Y41: =Y40+U41 -> 7258.8642 | Z41: =Z40*(1+$H$32) -> 0 | AA41: =AA40+Z41 -> 0 | AB41: =AB40+X41 -> 22383.864
M42: 16 | O42: ='Site - TS'!U$60 -> 0 | P42: =P41*(1+$H$32) -> 452.21176 | Q42: =P42+O42+N42 -> 452.21176 | R42: ='Site - TS'!U$32 -> 5811.8665 | S42: ='Site - TS'!U$34 -> 620.22599 | T42: =R42+S42 -> 6432.0925 | U42: =T42-Q42 -> 5979.8808 | V42: =($D$21+$D$21*$H$31)/20 -> 3575 | W42: =$W41+$V42 -> -11550 | X42: =U42-V42 -> 2404.8808 | Y42: =Y41+U42 -> 13238.745 | Z42: =Z41*(1+$H$32) -> 0 | AA42: =AA41+Z42 -> 0 | AB42: =AB41+X42 -> 24788.745
M43: 17 | O43: ='Site - TS'!V$60 -> 0 | P43: =P42*(1+$H$32) -> 461.256 | Q43: =P43+O43+N43 -> 461.256 | R43: ='Site - TS'!V$32 -> 5868.8228 | S43: ='Site - TS'!V$34 -> 626.3042 | T43: =R43+S43 -> 6495.127 | U43: =T43-Q43 -> 6033.871 | V43: =($D$21+$D$21*$H$31)/20 -> 3575 | W43: =$W42+$V43 -> -7975 | X43: =U43-V43 -> 2458.871 | Y43: =Y42+U43 -> 19272.616 | Z43: =Z42*(1+$H$32) -> 0 | AA43: =AA42+Z43 -> 0 | AB43: =AB42+X43 -> 27247.616
M44: 18 | O44: ='Site - TS'!W$60 -> 0 | P44: =P43*(1+$H$32) -> 470.48112 | Q44: =P44+O44+N44 -> 470.48112 | R44: ='Site - TS'!W$32 -> 5926.3373 | S44: ='Site - TS'!W$34 -> 632.44198 | T44: =R44+S44 -> 6558.7793 | U44: =T44-Q44 -> 6088.2982 | V44: =($D$21+$D$21*$H$31)/20 -> 3575 | W44: =$W43+$V44 -> -4400 | X44: =U44-V44 -> 2513.2982 | Y44: =Y43+U44 -> 25360.914 | Z44: =Z43*(1+$H$32) -> 0 | AA44: =AA43+Z44 -> 0 | AB44: =AB43+X44 -> 29760.914
M45: 19 | O45: ='Site - TS'!X$60 -> 0 | P45: =P44*(1+$H$32) -> 479.89074 | Q45: =P45+O45+N45 -> 479.89074 | R45: ='Site - TS'!X$32 -> 5984.4154 | S45: ='Site - TS'!X$34 -> 638.63991 | T45: =R45+S45 -> 6623.0553 | U45: =T45-Q45 -> 6143.1646 | V45: =($D$21+$D$21*$H$31)/20 -> 3575 | W45: =$W44+$V45 -> -825 | X45: =U45-V45 -> 2568.1646 | Y45: =Y44+U45 -> 31504.079 | Z45: =Z44*(1+$H$32) -> 0 | AA45: =AA44+Z45 -> 0 | AB45: =AB44+X45 -> 32329.079
M46: 20 | O46: ='Site - TS'!Y$60 -> 0 | P46: =P45*(1+$H$32) -> 489.48855 | Q46: =P46+O46+N46 -> 489.48855 | R46: ='Site - TS'!Y$32 -> 6043.0627 | S46: ='Site - TS'!Y$34 -> 644.89858 | T46: =R46+S46 -> 6687.9613 | U46: =T46-Q46 -> 6198.4727 | V46: =($D$21+$D$21*$H$31)/20 -> 3575 | W46: =$W45+$V46 -> 2750 | X46: =U46-V46 -> 2623.4727 | Y46: =Y45+U46 -> 37702.551 | Z46: =Z45*(1+$H$32) -> 0 | AA46: =AA45+Z46 -> 0 | AB46: =AB45+X46 -> 34952.551
M48: Total | N48: =SUM(N26:N46) -> 68750 | O48: =SUM(O26:O46) -> 7500 | P48: =SUM(P26:P46) -> 8163.9163 | Q48: =SUM(Q26:Q46) -> 84413.916 | R48: =SUM(R26:R46) -> 110341.17 | S48: =SUM(S26:S46) -> 11775.298 | T48: =SUM(T26:T46) -> 122116.47 | U48: =SUM(U26:U46) -> 37702.551 | V48: =SUM(V26:V46) -> 71500 | X48: =SUM(X26:X46) -> 34952.551 | Z48: =SUM(Z27:Z46) -> 0
A87: 1100

Sheet Site - TS
B5: Scheme option | C5: ='Twiggs Stores'!D10 -> Twiggs stores | L5: Max PPA capacity: | M5: ='New Site'!D33 -> 0
B6: Period count
B7: Year | E7: 0 | F7: =E7+1 -> 1 | G7: =F7+1 -> 2 | H7: =G7+1 -> 3 | I7: =H7+1 -> 4 | J7: =I7+1 -> 5 | K7: =J7+1 -> 6 | L7: =K7+1 -> 7 | M7: =L7+1 -> 8 | ... BM7: =BL7+1 -> 60
E8: =Scenarios!H4 -> 2023 | F8: =E8+1 -> 2024 | G8: =F8+1 -> 2025 | H8: =G8+1 -> 2026 | I8: =H8+1 -> 2027 | J8: =I8+1 -> 2028 | K8: =J8+1 -> 2029 | L8: =K8+1 -> 2030 | M8: =L8+1 -> 2031 | ... BM8: =BL8+1 -> 2083
C9: Totals
B10: Cash flow | C10: =SUM(E10:BM10) -> 343898.67 | E10: =IFERROR(E41+E48+E62, 0) -> -68750 | F10: =IFERROR(F41+F48+F62, 0) -> 5221.2619 | G10: =IFERROR(G41+G48+G62, 0) -> 5269.0082 | H10: =IFERROR(H41+H48+H62, 0) -> 5317.1539 | I10: =IFERROR(I41+I48+I62, 0) -> 5365.7017 | J10: =IFERROR(J41+J48+J62, 0) -> 5414.654 | K10: =IFERROR(K41+K48+K62, 0) -> 5464.0134 | L10: =IFERROR(L41+L48+L62, 0) -> 5513.7824 | ... BM10: =IFERROR(BM41+BM48+BM62, 0) -> 8799.694
B11: Cumulative cash position | E11: =IFERROR(E10+C11, 0) -> -68750 | F11: =IFERROR(F10+E11, 0) -> -63528.738 | G11: =IFERROR(G10+F11, 0) -> -58259.73 | H11: =IFERROR(H10+G11, 0) -> -52942.576 | I11: =IFERROR(I10+H11, 0) -> -47576.874 | J11: =IFERROR(J10+I11, 0) -> -42162.22 | K11: =IFERROR(K10+J11, 0) -> -36698.207 | L11: =IFERROR(L10+K11, 0) -> -31184.425 | M11: =IFERROR(M10+L11, 0) -> -25620.461 | ... BM11: =IFERROR(BM10+BL11, 0) -> 343898.67
B12: IRR (20 years) | C12: =SUM(E12:BM12) -> 0.12048995 | F12: =IRR(E10:F10,0) -> -0.92405437 | G12: =IRR(E10:G10,0) -> -0.68259553 | H12: =IRR(E10:H10,0) -> -0.484436 | I12: =IRR(E10:I10,0) -> -0.34634349 | J12: =IRR(E10:J10,0) -> -0.25012827 | K12: =IRR(E10:K10,0) -> -0.18133472 | L12: =IRR(E10:L10,0) -> -0.13073769 | M12: =IRR(E10:M10,0) -> -0.092556038 | N12: =IRR(E10:N10,0) -> -0.063093606 | O12: =IRR(E10:O10,0) -> -0.039919642 | P12: =IRR(E10:P10,0) -> -0.021389437 | Q12: =IRR(E10:Q10,0) -> -0.0063603635 | R12: =IRR(E10:R10,0) -> 0.0059805239 | S12: =IRR(E10:S10,0) -> 0.016224051 | T12: =IRR(E10:T10,0) -> 0.024807839 | U12: =IRR(E10:U10,0) -> 0.032061564 | V12: =IRR(E10:V10,0) -> 0.038237388 | W12: =IRR(E10:W10,0) -> 0.043530826 | X12: =IRR(E10:X10,0) -> 0.048095352 | Y12: =IRR(E10:Y10,0) -> 0.05205279 | Z12: =IRR(E10:Z10,0) -> 0.055500826 | AA12: =IRR(E10:AA10,0) -> 0.058518516 | AB12: =IRR(E10:AB10,0) -> 0.061170389 | AC12: =IRR(E10:AC10,0) -> 0.063509522 | AD12: =IRR(E10:AD10,0) -> 0.065579891 | AE12: =IRR(E10:AE10,0) -> 0.067418172 | AF12: =IRR(E10:AF10,0) -> 0.06905514 | AG12: =IRR(E10:AG10,0) -> 0.070516766 | AH12: =IRR(E10:AH10,0) -> 0.071825087 | AI12: =IRR(E10:AI10,1000) -> 0.072998889 | AJ12: =IRR(E10:AJ10,0) -> 0.074054266 | AK12: =IRR(E10:AK10,0) -> 0.07500506 | AL12: =IRR(E10:AL10,0) -> 0.07586323 | AM12: =IRR(E10:AM10,0) -> 0.076639143 | AN12: =IRR(E10:AN10,0) -> 0.077341823 | AO12: =IRR(E10:AO10,0) -> 0.077979144 | AP12: =IRR(E10:AP10,0) -> 0.078558007 | AQ12: =IRR(E10:AQ10,0) -> 0.079084472 | AR12: =IRR(E10:AR10,0) -> 0.079563879 | AS12: =IRR(E10:AS10,0) -> 0.080000944 | AT12: =IRR(E10:AT10,0) -> 0.080399845 | AU12: =IRR(E10:AU10,0) -> 0.080764289 | AV12: =IRR(E10:AV10,0) -> 0.081097576 | AW12: =IRR(E10:AW10,0) -> 0.081402646 | AX12: =IRR(E10:AX10,0) -> 0.081682129 | AY12: =IRR(E10:AY10,0) -> 0.081938378 | AZ12: =IRR(E10:AZ10,0) -> 0.082173502 | BA12: =IRR(E10:BA10,0) -> 0.082389398 | BB12: =IRR(E10:BB10,0) -> 0.082587772 | BC12: =IRR(E10:BC10,0) -> 0.082770162 | BD12: =IRR(E10:BD10,0) -> 0.082937957 | BE12: =IRR(E10:BE10,0) -> 0.083092412 | BF12: =IRR(E10:BF10,0) -> 0.083234663 | BG12: =IRR(E10:BG10,0) -> 0.083365741 | BH12: =IRR(E10:BH10,0) -> 0.083486581 | BI12: =IRR(E10:BI10,0) -> 0.083598033 | BJ12: =IRR(E10:BJ10,0) -> 0.083700868 | BK12: =IRR(E10:BK10,0) -> 0.083795792 | BL12: =IRR(E10:BL10,0) -> 0.083883445 | BM12: =IRR(E10:BM10,0) -> 0.083964413
B13: NPV (20 years) | C13: =SUM(E13:BM13) -> -1193677.2 | F13: =NPV('Twiggs Stores'!$H$34, $E$10:F10) -> -58184.908 | G13: =NPV('Twiggs Stores'!$H$34, $E$10:G10) -> -54226.224 | H13: =NPV('Twiggs Stores'!$H$34, $E$10:H10) -> -50594.536 | I13: =NPV('Twiggs Stores'!$H$34, $E$10:I10) -> -47262.857 | J13: =NPV('Twiggs Stores'!$H$34, $E$10:J10) -> -44206.426 | K13: =NPV('Twiggs Stores'!$H$34, $E$10:K10) -> -41402.524 | L13: =NPV('Twiggs Stores'!$H$34, $E$10:L10) -> -38830.303 | M13: =NPV('Twiggs Stores'!$H$34, $E$10:M10) -> -36470.64 | ... BM13: =NPV('Twiggs Stores'!$H$34, $E$10:BM10) -> -10597.168
B14: Average ROI (20 years) | C14: =AVERAGE(F14:Y14) -> 0.082883418 | F14: =F10/$E58 -> 0.075945628 | G14: =G10/$E58 -> 0.076640119 | H14: =H10/$E58 -> 0.07734042 | I14: =I10/$E58 -> 0.078046569 | J14: =J10/$E58 -> 0.078758603 | K14: =K10/$E58 -> 0.079476558 | L14: =L10/$E58 -> 0.080200472 | M14: =M10/$E58 -> 0.080930381 | ... Y14: =Y10/$E58 -> 0.090170198
B16: Graph flows (just for visuals) | E16: =-'Investor table'!E11 -> -1500 | F16: ='Investor table'!$G$11 -> #DIV/0! | G16: ='Investor table'!$G$11 -> #DIV/0! | H16: ='Investor table'!$G$11 -> #DIV/0! | I16: ='Investor table'!$G$11 -> #DIV/0! | J16: ='Investor table'!$G$11 -> #DIV/0! | K16: ='Investor table'!$G$11 -> #DIV/0! | L16: ='Investor table'!$G$11 -> #DIV/0! | M16: ='Investor table'!$G$11 -> #DIV/0! | ... BM16: ='Investor table'!$G$11 -> #DIV/0!
B17: Investor payback | E17: =-'Investor table'!E11 -> -1500 | F17: =IFERROR(F16+E17, 0) -> 0 | G17: =IFERROR(G16+F17, 0) -> 0 | H17: =IFERROR(H16+G17, 0) -> 0 | I17: =IFERROR(I16+H17, 0) -> 0 | J17: =IFERROR(J16+I17, 0) -> 0 | K17: =IFERROR(K16+J17, 0) -> 0 | L17: =IFERROR(L16+K17, 0) -> 0 | M17: =IFERROR(M16+L17, 0) -> 0 | ... BM17: =IFERROR(BM16+BL17, 0) -> 0
B20: Energy flows
B21: Annual electricity consumption (MWh) | C21: =SUM(E21:BM21) -> 4550.6 | E21: =IF(ISBLANK('New Site'!$D$12),HLOOKUP($C$5, Scenarios!$D$7:$AD$27, MATCH($B$21, Scenarios!$C$7:$C$28, FALSE), FALSE),'New Site'!$D$12) -> 74.6 | F21: =IF(ISBLANK('New Site'!$D$12),HLOOKUP($C$5, Scenarios!$D$7:$AD$27, MATCH($B$21, Scenarios!$C$7:$C$28, FALSE), FALSE),'New Site'!$D$12) -> 74.6 | G21: =IF(ISBLANK('New Site'!$D$12),HLOOKUP($C$5, Scenarios!$D$7:$AD$27, MATCH($B$21, Scenarios!$C$7:$C$28, FALSE), FALSE),'New Site'!$D$12) -> 74.6 | H21: =IF(ISBLANK('New Site'!$D$12),HLOOKUP($C$5, Scenarios!$D$7:$AD$27, MATCH($B$21, Scenarios!$C$7:$C$28, FALSE), FALSE),'New Site'!$D$12) -> 74.6 | I21: =IF(ISBLANK('New Site'!$D$12),HLOOKUP($C$5, Scenarios!$D$7:$AD$27, MATCH($B$21, Scenarios!$C$7:$C$28, FALSE), FALSE),'New Site'!$D$12) -> 74.6 | J21: =IF(ISBLANK('New Site'!$D$12),HLOOKUP($C$5, Scenarios!$D$7:$AD$27, MATCH($B$21, Scenarios!$C$7:$C$28, FALSE), FALSE),'New Site'!$D$12) -> 74.6 | K21: =IF(ISBLANK('New Site'!$D$12),HLOOKUP($C$5, Scenarios!$D$7:$AD$27, MATCH($B$21, Scenarios!$C$7:$C$28, FALSE), FALSE),'New Site'!$D$12) -> 74.6 | L21: =IF(ISBLANK('New Site'!$D$12),HLOOKUP($C$5, Scenarios!$D$7:$AD$27, MATCH($B$21, Scenarios!$C$7:$C$28, FALSE), FALSE),'New Site'!$D$12) -> 74.6 | ... BM21: =IF(ISBLANK('New Site'!$D$12),HLOOKUP($C$5, Scenarios!$D$7:$AD$27, MATCH($B$21, Scenarios!$C$7:$C$28, FALSE), FALSE),'New Site'!$D$12) -> 74.6
B22: Annual electricity production (MWh) | C22: =SUM(E22:BM22) -> 2147.6637 | E22: =IF(ISBLANK('New Site'!$D$13),HLOOKUP($C$5, Scenarios!$D$7:$AD$27, MATCH($B$22, Scenarios!$C$7:$C$28, FALSE), FALSE),('New Site'!$D$13*'New Site'!$I$12)/1000) -> 46.86 | F22: =E22*(1-$B$71) -> 46.3914 | G22: =F22*(1-$B$71) -> 45.927486 | H22: =G22*(1-$B$71) -> 45.468211 | I22: =H22*(1-$B$71) -> 45.013529 | J22: =I22*(1-$B$71) -> 44.563394 | K22: =J22*(1-$B$71) -> 44.11776 | L22: =K22*(1-$B$71) -> 43.676582 | M22: =L22*(1-$B$71) -> 43.239816 | ... BM22: =BL22*(1-$B$71) -> 25.63976
B24: Electricity prices
B25: Price currently being payed (£/MWh) | E25: =IF($C$5="New Site",'New Site'!$H$30,'New Site'!$I$30) | F25: ='Twiggs Stores'!$H$30 -> 152 | G25: =F25*(1+$B$76) -> 155.04 | H25: =G25*(1+$B$76) -> 158.1408 | I25: =H25*(1+$B$76) -> 161.30362 | J25: =I25*(1+$B$76) -> 164.52969 | K25: =J25*(1+$B$76) -> 167.82028 | L25: =K25*(1+$B$76) -> 171.17669 | M25: =L25*(1+$B$76) -> 174.60022 | N25: =M25*(1+$B$76) -> 178.09223 | ... BM25: =BL25*(1+$B$76) -> 488.93792
B26: Exporting to the grid (£/MWh) | E26: ='Twiggs Stores'!D31 -> 55 | F26: ='Twiggs Stores'!D31 -> 55 | G26: =F26*(1+$B$76) -> 56.1 | H26: =G26*(1+$B$76) -> 57.222 | I26: =H26*(1+$B$76) -> 58.36644 | J26: =I26*(1+$B$76) -> 59.533769 | K26: =J26*(1+$B$76) -> 60.724444 | L26: =K26*(1+$B$76) -> 61.938933 | M26: =L26*(1+$B$76) -> 63.177712 | N26: =M26*(1+$B$76) -> 64.441266 | ... BM26: =BL26*(1+$B$76) -> 176.91833
B27: Exporting to the PPA (£/MWh) | E27: ='New Site'!#REF! -> #REF! | F27: ='New Site'!#REF! -> #REF! | G27: =F27*(1+$B$76) -> #REF! | H27: =G27*(1+$B$76) -> #REF! | I27: =H27*(1+$B$76) -> #REF! | J27: =I27*(1+$B$76) -> #REF! | K27: =J27*(1+$B$76) -> #REF! | L27: =K27*(1+$B$76) -> #REF! | M27: =L27*(1+$B$76) -> #REF! | N27: =M27*(1+$B$76) -> #REF! | ... BM27: =BL27*(1+$B$76) -> #REF!
B28: Exporting on site (£/MWh) | E28: ='Twiggs Stores'!$D$30 -> 137 | F28: ='Twiggs Stores'!$D$30 -> 137 | G28: =F28*(1+$B$76) -> 139.74 | H28: =G28*(1+$B$76) -> 142.5348 | I28: =H28*(1+$B$76) -> 145.3855 | J28: =I28*(1+$B$76) -> 148.29321 | K28: =J28*(1+$B$76) -> 151.25907 | L28: =K28*(1+$B$76) -> 154.28425 | M28: =L28*(1+$B$76) -> 157.36994 | N28: =M28*(1+$B$76) -> 160.51734 | ... BM28: =BL28*(1+$B$76) -> 440.68747
B30: Revenues
B31: Electricity costs saved due to solar (site users) | C31: =SUM(E31:Y31)/20 -> 764.62974 | F31: =(F25-F28)*F22 -> 695.871 | G31: =(G25-G28)*G22 -> 702.69054 | H31: =(H25-H28)*H22 -> 709.5769 | I31: =(I25-I28)*I22 -> 716.53076 | J31: =(J25-J28)*J22 -> 723.55276 | K31: =(K25-K28)*K22 -> 730.64358 | L31: =(L25-L28)*L22 -> 737.80388 | M31: =(M25-M28)*M22 -> 745.03436 | ... BM31: =(BM25-BM28)*BM22 -> 1237.13
B32: Electricity sold to the site users | C32: =SUM(E32:BM32) -> 412504.54 | E32: =IF($C$5="Twiggs stores",0.79*E28*E22,IF($C$5="Highfields upper",0.66*E28*E22,IF(AND('New Site'!$D$11="7 days per week",$C$5="New site"),IF(E22<E21,0.71*E28*E22,0.71*E28*E21),IF(E22<E21,E28*E22,E28*E21)))) -> 5071.6578 | F32: =IF($C$5="Twiggs stores",0.79*F28*F22,IF($C$5="Highfields upper",0.66*F28*F22,IF(AND('New Site'!$D$11="7 days per week",$C$5="New site"),IF(F22<F21,0.71*F28*F22,0.71*F28*F21),IF(F22<F21,F28*F22,F28*F21)))) -> 5020.9412 | G32: =IF($C$5="Twiggs stores",0.79*G28*G22,IF($C$5="Highfields upper",0.66*G28*G22,IF(AND('New Site'!$D$11="7 days per week",$C$5="New site"),IF(G22<G21,0.71*G28*G22,0.71*G28*G21),IF(G22<G21,G28*G22,G28*G21)))) -> 5070.1464 | H32: =IF($C$5="Twiggs stores",0.79*H28*H22,IF($C$5="Highfields upper",0.66*H28*H22,IF(AND('New Site'!$D$11="7 days per week",$C$5="New site"),IF(H22<H21,0.71*H28*H22,0.71*H28*H21),IF(H22<H21,H28*H22,H28*H21)))) -> 5119.8339 | I32: =IF($C$5="Twiggs stores",0.79*I28*I22,IF($C$5="Highfields upper",0.66*I28*I22,IF(AND('New Site'!$D$11="7 days per week",$C$5="New site"),IF(I22<I21,0.71*I28*I22,0.71*I28*I21),IF(I22<I21,I28*I22,I28*I21)))) -> 5170.0083 | J32: =IF($C$5="Twiggs stores",0.79*J28*J22,IF($C$5="Highfields upper",0.66*J28*J22,IF(AND('New Site'!$D$11="7 days per week",$C$5="New site"),IF(J22<J21,0.71*J28*J22,0.71*J28*J21),IF(J22<J21,J28*J22,J28*J21)))) -> 5220.6743 | K32: =IF($C$5="Twiggs stores",0.79*K28*K22,IF($C$5="Highfields upper",0.66*K28*K22,IF(AND('New Site'!$D$11="7 days per week",$C$5="New site"),IF(K22<K21,0.71*K28*K22,0.71*K28*K21),IF(K22<K21,K28*K22,K28*K21)))) -> 5271.8369 | L32: =IF($C$5="Twiggs stores",0.79*L28*L22,IF($C$5="Highfields upper",0.66*L28*L22,IF(AND('New Site'!$D$11="7 days per week",$C$5="New site"),IF(L22<L21,0.71*L28*L22,0.71*L28*L21),IF(L22<L21,L28*L22,L28*L21)))) -> 5323.5009 | ... BM32: =IF($C$5="Twiggs stores",0.79*BM28*BM22,IF($C$5="Highfields upper",0.66*BM28*BM22,IF(AND('New Site'!$D$11="7 days per week",$C$5="New site"),IF(BM22<BM21,0.71*BM28*BM22,0.71*BM28*BM21),IF(BM22<BM21,BM28*BM22,BM28*BM21)))) -> 8926.3056
B33: Excess electricity sold to the community energy group | C33: =SUM(E33:BM33) -> 0 | E33: =IF(E22>E21,IF(E22-E21<$M$5,(E22-E21)*E27,$M$5*E27),0) -> 0 | F33: =IF(F22>F21,IF(F22-F21<$M$5,(F22-F21)*F27,$M$5*F27),0) -> 0 | G33: =IF(G22>G21,IF(G22-G21<$M$5,(G22-G21)*G27,$M$5*G27),0) -> 0 | H33: =IF(H22>H21,IF(H22-H21<$M$5,(H22-H21)*H27,$M$5*H27),0) -> 0 | I33: =IF(I22>I21,IF(I22-I21<$M$5,(I22-I21)*I27,$M$5*I27),0) -> 0 | J33: =IF(J22>J21,IF(J22-J21<$M$5,(J22-J21)*J27,$M$5*J27),0) -> 0 | K33: =IF(K22>K21,IF(K22-K21<$M$5,(K22-K21)*K27,$M$5*K27),0) -> 0 | L33: =IF(L22>L21,IF(L22-L21<$M$5,(L22-L21)*L27,$M$5*L27),0) -> 0 | ... BM33: =IF(BM22>BM21,IF(BM22-BM21<$M$5,(BM22-BM21)*BM27,$M$5*BM27),0) -> 0
B34: Excess electricity sold to the grid | C34: =SUM(E34:BM34) -> 44021.319 | E34: =IF($C$5="Twiggs stores",0.21*E26*E22,IF($C$5="Highfields upper",0.34*E26*E22,IF(AND('New Site'!$D$11="7 days per week",$C$5="New site"),0.29*E26*(E21-E22),IF(E22<E21,0,E26*(E21-E22))))) -> 541.233 | F34: =IF($C$5="Twiggs stores",0.21*F26*F22,IF($C$5="Highfields upper",0.34*F26*F22,IF(AND('New Site'!$D$11="7 days per week",$C$5="New site"),0.29*F26*(F21-F22),IF(F22<F21,0,F26*(F21-F22))))) -> 535.82067 | G34: =IF($C$5="Twiggs stores",0.21*G26*G22,IF($C$5="Highfields upper",0.34*G26*G22,IF(AND('New Site'!$D$11="7 days per week",$C$5="New site"),0.29*G26*(G21-G22),IF(G22<G21,0,G26*(G21-G22))))) -> 541.07171 | H34: =IF($C$5="Twiggs stores",0.21*H26*H22,IF($C$5="Highfields upper",0.34*H26*H22,IF(AND('New Site'!$D$11="7 days per week",$C$5="New site"),0.29*H26*(H21-H22),IF(H22<H21,0,H26*(H21-H22))))) -> 546.37422 | I34: =IF($C$5="Twiggs stores",0.21*I26*I22,IF($C$5="Highfields upper",0.34*I26*I22,IF(AND('New Site'!$D$11="7 days per week",$C$5="New site"),0.29*I26*(I21-I22),IF(I22<I21,0,I26*(I21-I22))))) -> 551.72868 | J34: =IF($C$5="Twiggs stores",0.21*J26*J22,IF($C$5="Highfields upper",0.34*J26*J22,IF(AND('New Site'!$D$11="7 days per week",$C$5="New site"),0.29*J26*(J21-J22),IF(J22<J21,0,J26*(J21-J22))))) -> 557.13562 | K34: =IF($C$5="Twiggs stores",0.21*K26*K22,IF($C$5="Highfields upper",0.34*K26*K22,IF(AND('New Site'!$D$11="7 days per week",$C$5="New site"),0.29*K26*(K21-K22),IF(K22<K21,0,K26*(K21-K22))))) -> 562.59555 | L34: =IF($C$5="Twiggs stores",0.21*L26*L22,IF($C$5="Highfields upper",0.34*L26*L22,IF(AND('New Site'!$D$11="7 days per week",$C$5="New site"),0.29*L26*(L21-L22),IF(L22<L21,0,L26*(L21-L22))))) -> 568.10899 | ... BM34: =IF($C$5="Twiggs stores",0.21*BM26*BM22,IF($C$5="Highfields upper",0.34*BM26*BM22,IF(AND('New Site'!$D$11="7 days per week",$C$5="New site"),0.29*BM26*(BM21-BM22),IF(BM22<BM21,0,BM26*(BM21-BM22))))) -> 952.59013
B36: Other revenues
B37: Annual carbon savings (tCO2e) | C37: =SUM(E37:Y37)/20 -> 9.7619912 | F37: =F22*0.23112 -> 10.72198 | G37: =G22*0.23112 -> 10.614761 | H37: =H22*0.23112 -> 10.508613 | I37: =I22*0.23112 -> 10.403527 | J37: =J22*0.23112 -> 10.299492 | K37: =K22*0.23112 -> 10.196497 | L37: =L22*0.23112 -> 10.094532 | M37: =M22*0.23112 -> 9.9935864 | ... BM37: =BM22*0.23112 -> 5.9258614
B38: Total carbon savings (tCO2e) | E38: {=(#REF!*E36(#REF!*1000)+(#REF!*1000)*#REF!)/1000} -> #REF! | F38: =(#REF!*(#REF!*1000)+(#REF!*1000)*#REF!)/1000 -> #REF! | G38: =(#REF!*(#REF!*1000)+(#REF!*1000)*#REF!)/1000 -> #REF! | H38: =(#REF!*(#REF!*1000)+(#REF!*1000)*#REF!)/1000 -> #REF! | I38: =(#REF!*(#REF!*1000)+(#REF!*1000)*#REF!)/1000 -> #REF! | J38: =(#REF!*(#REF!*1000)+(#REF!*1000)*#REF!)/1000 -> #REF! | K38: =(#REF!*(#REF!*1000)+(#REF!*1000)*#REF!)/1000 -> #REF! | L38: =(#REF!*(#REF!*1000)+(#REF!*1000)*#REF!)/1000 -> #REF! | M38: =(#REF!*(#REF!*1000)+(#REF!*1000)*#REF!)/1000 -> #REF! | ... BM38: =(#REF!*(#REF!*1000)+(#REF!*1000)*#REF!)/1000 -> #REF!
B39: Cumulative cash position | F39: =+#REF!+#REF! -> #REF! | G39: =IF(G7>0,#REF!+ F39, 0) -> #REF! | H39: =IF(H7>0,#REF!+ G39, 0) -> #REF! | I39: =IF(I7>0,#REF!+ H39, 0) -> #REF! | J39: =IF(J7>0,#REF!+ I39, 0) -> #REF! | K39: =IF(K7>0,#REF!+ J39, 0) -> #REF! | L39: =IF(L7>0,#REF!+ K39, 0) -> #REF! | M39: =IF(M7>0,#REF!+ L39, 0) -> #REF! | N39: =IF(N7>0,#REF!+ M39, 0) -> #REF! | ... BM39: =IF(BM7>0,#REF!+ BL39, 0) -> #REF!
B41: Total income | C41: =SUM(E41:BM41) -> 450912.96 | F41: =F32+F33+F34+F68 -> 5556.7619 | G41: =G32+G33+G34+G68 -> 5611.2182 | H41: =H32+H33+H34+H68 -> 5666.2081 | I41: =I32+I33+I34+I68 -> 5721.7369 | J41: =J32+J33+J34+J68 -> 5777.81 | K41: =K32+K33+K34+K68 -> 5834.4325 | L41: =L32+L33+L34+L68 -> 5891.6099 | M41: =M32+M33+M34+M68 -> 5949.3477 | ... BM41: =BM32+BM33+BM34+BM68 -> 9878.8958
B42: Cumulative income | E42: =E41 -> 0 | F42: =F41+E42 -> 5556.7619 | G42: =G41+F42 -> 11167.98 | H42: =H41+G42 -> 16834.188 | I42: =I41+H42 -> 22555.925 | J42: =J41+I42 -> 28333.735 | K42: =K41+J42 -> 34168.168 | L42: =L41+K42 -> 40059.777 | M42: =M41+L42 -> 46009.125 | ... BM42: =BM41+BL42 -> 450912.96
Y43: =Y42 -> 122116.47
B44: Operational costs
B45: Combined annual O&M (fixed and variable) (£) | C45: =SUM(E45:BM45) -> 38599.791 | E45: =HLOOKUP($C$5,Scenarios!$D$7:AD29, MATCH($B$45, Scenarios!$C$7:$C$28, FALSE), FALSE) -> 335.5 | F45: =E45 -> 335.5 | G45: =F45*(1+$B$76) -> 342.21 | H45: =G45*(1+$B$76) -> 349.0542 | I45: =H45*(1+$B$76) -> 356.03528 | J45: =I45*(1+$B$76) -> 363.15599 | K45: =J45*(1+$B$76) -> 370.41911 | L45: =K45*(1+$B$76) -> 377.82749 | M45: =L45*(1+$B$76) -> 385.38404 | N45: =M45*(1+$B$76) -> 393.09172 | ... BM45: =BL45*(1+$B$76) -> 1079.2018
B46: Business rate charge | C46: =SUM(E46:BM46) -> 0 | E46: =Scenarios!$D$22 -> 0 | F46: =Scenarios!$D$22 -> 0 | G46: =Scenarios!$D$22 -> 0 | H46: =Scenarios!$D$22 -> 0 | I46: =Scenarios!$D$22 -> 0 | J46: =Scenarios!$D$22 -> 0 | K46: =Scenarios!$D$22 -> 0 | L46: =Scenarios!$D$22 -> 0 | ... BM46: =Scenarios!$D$22 -> 0
B48: Total costs | C48: =SUM(E48:BM48) -> -38264.291 | F48: =-(F45+F46+F103) -> -335.5 | G48: =-(G45+G46+G103) -> -342.21 | H48: =-(H45+H46+H103) -> -349.0542 | I48: =-(I45+I46+I103) -> -356.03528 | J48: =-(J45+J46+J103) -> -363.15599 | K48: =-(K45+K46+K103) -> -370.41911 | L48: =-(L45+L46+L103) -> -377.82749 | M48: =-(M45+M46+M103) -> -385.38404 | ... BM48: =-(BM45+BM46+BM103) -> -1079.2018
B50: CEG cash flows
B51: CEG portion | C51: =SUM(E51:BM51) -> #REF! | E51: =E41*'New Site'!#REF! -> #REF! | F51: =F41*'New Site'!$H$31 -> 222.27048 | G51: =G41*'New Site'!$H$31 -> 224.44873 | H51: =H41*'New Site'!$H$31 -> 226.64832 | I51: =I41*'New Site'!$H$31 -> 228.86948 | J51: =J41*'New Site'!$H$31 -> 231.1124 | K51: =K41*'New Site'!$H$31 -> 233.3773 | L51: =L41*'New Site'!$H$31 -> 235.6644 | M51: =M41*'New Site'!$H$31 -> 237.97391 | ... BM51: =BM41*'New Site'!$H$31 -> 395.15583
B52: Cumulative CEG | E52: 0 | F52: =E52+F51 -> 222.27048 | G52: =F52+G51 -> 446.7192 | H52: =G52+H51 -> 673.36753 | I52: =H52+I51 -> 902.237 | J52: =I52+J51 -> 1133.3494 | K52: =J52+K51 -> 1366.7267 | L52: =K52+L51 -> 1602.3911 | M52: =L52+M51 -> 1840.365 | ... BM52: =BL52+BM51 -> 18036.519
B53: Investors | C53: =SUM(E53:BM53) -> #REF! | E53: =E41*(1-'New Site'!#REF!) -> #REF! | F53: =F41*(1-'New Site'!$H$31) -> 5334.4914 | G53: =G41*(1-'New Site'!$H$31) -> 5386.7694 | H53: =H41*(1-'New Site'!$H$31) -> 5439.5598 | I53: =I41*(1-'New Site'!$H$31) -> 5492.8675 | J53: =J41*(1-'New Site'!$H$31) -> 5546.6976 | K53: =K41*(1-'New Site'!$H$31) -> 5601.0552 | L53: =L41*(1-'New Site'!$H$31) -> 5655.9455 | M53: =M41*(1-'New Site'!$H$31) -> 5711.3738 | ... BM53: =BM41*(1-'New Site'!$H$31) -> 9483.7399
...

Sheet Highfields Upper
D5: Matlock Town Council: Solar PV financial tool
C7: INPUTS | M7: OUTPUTS
C9: SITE SELECTION | M9: FINANCIAL CASHFLOW | O9: SYSTEM FINANCIAL METRICS | Q9: PV SYSYEM
C10: Site selection | D10: Highfields upper | H10: Site values | M10: Year in review | N10: 20 | O10: SPY | P10: =D21/U27 -> 15.823676 | Q10: Projected energy generation (MWh) | R10: =IF(D10="Twiggs steelyard",Scenarios!J11,IF(D10="Twiggs stores",Scenarios!N11,IF(D10="Highfields upper",Scenarios!R11,IF(D10="Highfields lower",Scenarios!V11,IF(D10="New site",Scenarios!W11))))) -> 164.7
C11: Site operation type | D11: Highfields upper | G11: Site annual electricity consumption (MWh) | H11: 384 | M11: Cumulative project income | N11: =Summary!J123 -> 336613.71 | O11: IRR (20 years) | P11: =VLOOKUP(O11,'Site - HU'!B10:Y13,24,FALSE) -> 0.031650478 | Q11: Site savings (£/yr) | R11: ='Site - HU'!C31 -> 2329.1346
G12: System size (kWp) | H12: 180 | I12: =IF(H12="",IF(D10="New site","Must input own values",IF(D10="Twiggs stores",70,IF(D10="Twiggs steelyard",80,IF(D10="Highfields upper",150,IF(D10="Highfields lower",60,"N/A"))))),"") | M12: Project cashflow | N12: =Summary!J124 -> 71935.194 | O12: NPV (20 years) | P12: =VLOOKUP(O12,'Site - HU'!B11:Y15,24,FALSE) -> -87779.72 | Q12: Annual carbon savings (tCO2e) | R12: ='Site - HU'!C37 -> 34.310712
G13: Regional solar irradiance | H13: 915 | I13: =IF(H13="",IF(D10="Twiggs steelyard",868,IF(D10="Twiggs stores",852,IF(D10="Highfields upper",915,IF(D10="Highfields lower",894,IF(D10="New site","Must input own values"))))),"") | M13: CEG benefit fund cashflow | N13: =Summary!J128 -> 0 | O13: Average ROI (20 years) | P13: =VLOOKUP(O13,'Site - HU'!B12:Y16,2,FALSE) -> 0.068874488
M14: CEG surplus cashflow | N14: =Summary!J120 -> 62935.194
C15: 1. CAPEX | G15: 2. OPEX | M15: Expected annual opex | N15: =Summary!J121 -> 1599.5787
D16: Site values | H16: Site values | M16: Expected annual income | N16: =Summary!J122 -> 18435.347
C17: Total capex for PV system (£) | D17: 225000 | G17: PV maintenance cost/yr (£) | H17: 1098
C18: Additional capex costs (£) | D18: 0 | G18: Additional opex cost/yr (£) | H18: 0
C19: DNO cost (£) | D19: 0 | G19: Community energy fund allocation cost/yr (£) | H19: 0
C21: TOTAL CAPEX (£) | D21: =SUM(D17:D19) -> 225000 | G21: TOTAL OPEX (£) | H21: =SUM(H17:H19) -> 1098
M22: YEARLY CASH FLOWS TABLE
C24: 3. REPEX | N24: COSTS | R24: ENERGY SALES | U24: INVESTOR & CEG DIVIDENDS | X24: CASH FLOWS
C25: Inverter cost (£) | D25: 13000 | M25: YEAR IN STUDY | N25: CAPEX COSTS | O25: REPEX COSTS | P25: OPEX COSTS | Q25: TOTAL COSTS | R25: ENERGY SALES TO SITE | S25: EXPORT INCOME | T25: TOTAL PROJECT INCOME | U25: NET INCOME PRE DIVIDENDS | V25: INVESTOR DIVIDENDS | W25: INVESTOR CASH POSITION | X25: NET INCOME POST DIVIDENDS | Y25: PROJECT CASHFLOW | Z25: CEG BENEFIT FUND | AA25: CEG BENEFIT FUND CASHFLOW | AB25: CEG SURPLUS CASHFLOW
C26: Inverter replacement year | D26: 11 | M26: 0 | N26: =D21 -> 225000 | O26: =IF(D10="New site",D19+D18,E18+E19) -> 0 | Q26: =P26+O26+N26 -> 225000 | U26: =T26-Q26 -> -225000 | W26: =-D21 -> -225000 | Y26: =-Q26 -> -225000 | AA26: 0 | AB26: 0
M27: 1 | O27: ='Site - HU'!F$60 -> 0 | P27: =H21 -> 1098 | Q27: =P27+O27+N27 -> 1098 | R27: ='Site - HU'!F$32 -> 12268.108 | S27: ='Site - HU'!F$34 -> 3049.0911 | T27: =R27+S27 -> 15317.199 | U27: =T27-Q27 -> 14219.199 | V27: =($D$21+$D$21*$H$31)/20 -> 11700 | W27: =$W26+$V27 -> -213300 | X27: =U27-V27 -> 2519.1988 | Y27: =Y26+U27 -> -210780.8 | Z27: =H19 -> 0 | AA27: =AA26+Z27 -> 0 | AB27: =AB26+X27 -> 2519.1988
C28: 4. ELECTRICITY REVENUE STREAMS | G28: 5. EXTERNAL VARIABLES | M28: 2 | O28: ='Site - HU'!G$60 -> 0 | P28: =P27*(1+$H$32) -> 1119.96 | Q28: =P28+O28+N28 -> 1119.96 | R28: ='Site - HU'!G$32 -> 12388.335 | S28: ='Site - HU'!G$34 -> 3078.9722 | T28: =R28+S28 -> 15467.307 | U28: =T28-Q28 -> 14347.347 | V28: =($D$21+$D$21*$H$31)/20 -> 11700 | W28: =$W27+$V28 -> -201600 | X28: =U28-V28 -> 2647.3474 | Y28: =Y27+U28 -> -196433.45 | Z28: =Z27*(1+$H$32) -> 0 | AA28: =AA27+Z28 -> 0 | AB28: =AB27+X28 -> 5166.5462
H29: Site values | M29: 3 | O29: ='Site - HU'!H$60 -> 0 | P29: =P28*(1+$H$32) -> 1142.3592 | Q29: =P29+O29+N29 -> 1142.3592 | R29: ='Site - HU'!H$32 -> 12509.741 | S29: ='Site - HU'!H$34 -> 3109.1461 | T29: =R29+S29 -> 15618.887 | U29: =T29-Q29 -> 14476.528 | V29: =($D$21+$D$21*$H$31)/20 -> 11700 | W29: =$W28+$V29 -> -189900 | X29: =U29-V29 -> 2776.5278 | Y29: =Y28+U29 -> -181956.93 | Z29: =Z28*(1+$H$32) -> 0 | AA29: =AA28+Z29 -> 0 | AB29: =AB28+X29 -> 7943.074
C30: Site PPA electrictity price (£/MWh) | D30: 114 | G30: Current site energy price (£/MWh) | H30: 127 | M30: 4 | O30: ='Site - HU'!I$60 -> 0 | P30: =P29*(1+$H$32) -> 1165.2064 | Q30: =P30+O30+N30 -> 1165.2064 | R30: ='Site - HU'!I$32 -> 12632.336 | S30: ='Site - HU'!I$34 -> 3139.6158 | T30: =R30+S30 -> 15771.952 | U30: =T30-Q30 -> 14606.746 | V30: =($D$21+$D$21*$H$31)/20 -> 11700 | W30: =$W29+$V30 -> -178200 | X30: =U30-V30 -> 2906.7457 | Y30: =Y29+U30 -> -167350.18 | Z30: =Z29*(1+$H$32) -> 0 | AA30: =AA29+Z30 -> 0 | AB30: =AB29+X30 -> 10849.82
C31: Secondary PPA electrcity price (£/MWh) | D31: 55 | G31: Investor ROI | H31: 0.04 | M31: 5 | O31: ='Site - HU'!J$60 -> 0 | P31: =P30*(1+$H$32) -> 1188.5105 | Q31: =P31+O31+N31 -> 1188.5105 | R31: ='Site - HU'!J$32 -> 12756.133 | S31: ='Site - HU'!J$34 -> 3170.384 | T31: =R31+S31 -> 15926.517 | U31: =T31-Q31 -> 14738.007 | V31: =($D$21+$D$21*$H$31)/20 -> 11700 | W31: =$W30+$V31 -> -166500 | X31: =U31-V31 -> 3038.0067 | Y31: =Y30+U31 -> -152612.17 | Z31: =Z30*(1+$H$32) -> 0 | AA31: =AA30+Z31 -> 0 | AB31: =AB30+X31 -> 13887.826
G32: Inflation (%) | H32: 0.02 | M32: 6 | O32: ='Site - HU'!K$60 -> 0 | P32: =P31*(1+$H$32) -> 1212.2807 | Q32: =P32+O32+N32 -> 1212.2807 | R32: ='Site - HU'!K$32 -> 12881.143 | S32: ='Site - HU'!K$34 -> 3201.4537 | T32: =R32+S32 -> 16082.597 | U32: =T32-Q32 -> 14870.316 | V32: =($D$21+$D$21*$H$31)/20 -> 11700 | W32: =$W31+$V32 -> -154800 | X32: =U32-V32 -> 3170.3164 | Y32: =Y31+U32 -> -137741.86 | Z32: =Z31*(1+$H$32) -> 0 | AA32: =AA31+Z32 -> 0 | AB32: =AB31+X32 -> 17058.143
G33: Yearly solar PV output degredation | H33: 0.01 | M33: 7 | O33: ='Site - HU'!L$60 -> 0 | P33: =P32*(1+$H$32) -> 1236.5263 | Q33: =P33+O33+N33 -> 1236.5263 | R33: ='Site - HU'!L$32 -> 13007.379 | S33: ='Site - HU'!L$34 -> 3232.828 | T33: =R33+S33 -> 16240.207 | U33: =T33-Q33 -> 15003.68 | V33: =($D$21+$D$21*$H$31)/20 -> 11700 | W33: =$W32+$V33 -> -143100 | X33: =U33-V33 -> 3303.6802 | Y33: =Y32+U33 -> -122738.18 | Z33: =Z32*(1+$H$32) -> 0 | AA33: =AA32+Z33 -> 0 | AB33: =AB32+X33 -> 20361.823
G34: Discount rate (%) | H34: 0.1 | M34: 8 | O34: ='Site - HU'!M$60 -> 0 | P34: =P33*(1+$H$32) -> 1261.2569 | Q34: =P34+O34+N34 -> 1261.2569 | R34: ='Site - HU'!M$32 -> 13134.851 | S34: ='Site - HU'!M$34 -> 3264.5097 | T34: =R34+S34 -> 16399.361 | U34: =T34-Q34 -> 15138.104 | V34: =($D$21+$D$21*$H$31)/20 -> 11700 | W34: =$W33+$V34 -> -131400 | X34: =U34-V34 -> 3438.1037 | Y34: =Y33+U34 -> -107600.07 | Z34: =Z33*(1+$H$32) -> 0 | AA34: =AA33+Z34 -> 0 | AB34: =AB33+X34 -> 23799.927
M35: 9 | O35: ='Site - HU'!N$60 -> 0 | P35: =P34*(1+$H$32) -> 1286.482 | Q35: =P35+O35+N35 -> 1286.482 | R35: ='Site - HU'!N$32 -> 13263.572 | S35: ='Site - HU'!N$34 -> 3296.5019 | T35: =R35+S35 -> 16560.074 | U35: =T35-Q35 -> 15273.592 | V35: =($D$21+$D$21*$H$31)/20 -> 11700 | W35: =$W34+$V35 -> -119700 | X35: =U35-V35 -> 3573.5923 | Y35: =Y34+U35 -> -92326.481 | Z35: =Z34*(1+$H$32) -> 0 | AA35: =AA34+Z35 -> 0 | AB35: =AB34+X35 -> 27373.519
M36: 10 | O36: ='Site - HU'!O$60 -> 0 | P36: =P35*(1+$H$32) -> 1312.2116 | Q36: =P36+O36+N36 -> 1312.2116 | R36: ='Site - HU'!O$32 -> 13393.555 | S36: ='Site - HU'!O$34 -> 3328.8076 | T36: =R36+S36 -> 16722.363 | U36: =T36-Q36 -> 15410.151 | V36: =($D$21+$D$21*$H$31)/20 -> 11700 | W36: =$W35+$V36 -> -108000 | X36: =U36-V36 -> 3710.1514 | Y36: =Y35+U36 -> -76916.33 | Z36: =Z35*(1+$H$32) -> 0 | AA36: =AA35+Z36 -> 0 | AB36: =AB35+X36 -> 31083.67
M37: 11 | O37: 13000 | P37: =P36*(1+$H$32) -> 1338.4559 | Q37: =P37+O37+N37 -> 14338.456 | R37: ='Site - HU'!P$32 -> 13524.812 | S37: ='Site - HU'!P$34 -> 3361.4299 | T37: =R37+S37 -> 16886.242 | U37: =T37-Q37 -> 2547.7863 | V37: =($D$21+$D$21*$H$31)/20 -> 11700 | W37: =$W36+$V37 -> -96300 | X37: =U37-V37 -> -9152.2137 | Y37: =Y36+U37 -> -74368.543 | Z37: =Z36*(1+$H$32) -> 0 | AA37: =AA36+Z37 -> 0 | AB37: =AB36+X37 -> 21931.457
M38: 12 | O38: ='Site - HU'!Q$60 -> 0 | P38: =P37*(1+$H$32) -> 1365.225 | Q38: =P38+O38+N38 -> 1365.225 | R38: ='Site - HU'!Q$32 -> 13657.355 | S38: ='Site - HU'!Q$34 -> 3394.372 | T38: =R38+S38 -> 17051.727 | U38: =T38-Q38 -> 15686.502 | V38: =($D$21+$D$21*$H$31)/20 -> 11700 | W38: =$W37+$V38 -> -84600 | X38: =U38-V38 -> 3986.5023 | Y38: =Y37+U38 -> -58682.041 | Z38: =Z37*(1+$H$32) -> 0 | AA38: =AA37+Z38 -> 0 | AB38: =AB37+X38 -> 25917.959
M39: 13 | O39: 0 | P39: =P38*(1+$H$32) -> 1392.5295 | Q39: =P39+O39+N39 -> 1392.5295 | R39: ='Site - HU'!R$32 -> 13791.197 | S39: ='Site - HU'!R$34 -> 3427.6368 | T39: =R39+S39 -> 17218.834 | U39: =T39-Q39 -> 15826.305 | V39: =($D$21+$D$21*$H$31)/20 -> 11700 | W39: =$W38+$V39 -> -72900 | X39: =U39-V39 -> 4126.3048 | Y39: =Y38+U39 -> -42855.736 | Z39: =Z38*(1+$H$32) -> 0 | AA39: =AA38+Z39 -> 0 | AB39: =AB38+X39 -> 30044.264
M40: 14 | O40: ='Site - HU'!S$60 -> 0 | P40: =P39*(1+$H$32) -> 1420.3801 | Q40: =P40+O40+N40 -> 1420.3801 | R40: ='Site - HU'!S$32 -> 13926.351 | S40: ='Site - HU'!S$34 -> 3461.2276 | T40: =R40+S40 -> 17387.579 | U40: =T40-Q40 -> 15967.199 | V40: =($D$21+$D$21*$H$31)/20 -> 11700 | W40: =$W39+$V40 -> -61200 | X40: =U40-V40 -> 4267.1988 | Y40: =Y39+U40 -> -26888.538 | Z40: =Z39*(1+$H$32) -> 0 | AA40: =AA39+Z40 -> 0 | AB40: =AB39+X40 -> 34311.462
M41: 15 | O41: ='Site - HU'!T$60 -> 0 | P41: =P40*(1+$H$32) -> 1448.7877 | Q41: =P41+O41+N41 -> 1448.7877 | R41: ='Site - HU'!T$32 -> 14062.829 | S41: ='Site - HU'!T$34 -> 3495.1477 | T41: =R41+S41 -> 17557.977 | U41: =T41-Q41 -> 16109.189 | V41: =($D$21+$D$21*$H$31)/20 -> 11700 | W41: =$W40+$V41 -> -49500 | X41: =U41-V41 -> 4409.1894 | Y41: =Y40+U41 -> -10779.348 | Z41: =Z40*(1+$H$32) -> 0 | AA41: =AA40+Z41 -> 0 | AB41: =AB40+X41 -> 38720.652
M42: 16 | O42: ='Site - HU'!U$60 -> 0 | P42: =P41*(1+$H$32) -> 1477.7634 | Q42: =P42+O42+N42 -> 1477.7634 | R42: ='Site - HU'!U$32 -> 14200.645 | S42: ='Site - HU'!U$34 -> 3529.4001 | T42: =R42+S42 -> 17730.045 | U42: =T42-Q42 -> 16252.282 | V42: =($D$21+$D$21*$H$31)/20 -> 11700 | W42: =$W41+$V42 -> -37800 | X42: =U42-V42 -> 4552.2819 | Y42: =Y41+U42 -> 5472.9337 | Z42: =Z41*(1+$H$32) -> 0 | AA42: =AA41+Z42 -> 0 | AB42: =AB41+X42 -> 43272.934
M43: 17 | O43: ='Site - HU'!V$60 -> 0 | P43: =P42*(1+$H$32) -> 1507.3187 | Q43: =P43+O43+N43 -> 1507.3187 | R43: ='Site - HU'!V$32 -> 14339.811 | S43: ='Site - HU'!V$34 -> 3563.9882 | T43: =R43+S43 -> 17903.8 | U43: =T43-Q43 -> 16396.481 | V43: =($D$21+$D$21*$H$31)/20 -> 11700 | W43: =$W42+$V43 -> -26100 | X43: =U43-V43 -> 4696.481 | Y43: =Y42+U43 -> 21869.415 | Z43: =Z42*(1+$H$32) -> 0 | AA43: =AA42+Z43 -> 0 | AB43: =AB42+X43 -> 47969.415
M44: 18 | O44: ='Site - HU'!W$60 -> 0 | P44: =P43*(1+$H$32) -> 1537.4651 | Q44: =P44+O44+N44 -> 1537.4651 | R44: ='Site - HU'!W$32 -> 14480.342 | S44: ='Site - HU'!W$34 -> 3598.9153 | T44: =R44+S44 -> 18079.257 | U44: =T44-Q44 -> 16541.792 | V44: =($D$21+$D$21*$H$31)/20 -> 11700 | W44: =$W43+$V44 -> -14400 | X44: =U44-V44 -> 4841.7919 | Y44: =Y43+U44 -> 38411.207 | Z44: =Z43*(1+$H$32) -> 0 | AA44: =AA43+Z44 -> 0 | AB44: =AB43+X44 -> 52811.207
M45: 19 | O45: ='Site - HU'!X$60 -> 0 | P45: =P44*(1+$H$32) -> 1568.2144 | Q45: =P45+O45+N45 -> 1568.2144 | R45: ='Site - HU'!X$32 -> 14622.249 | S45: ='Site - HU'!X$34 -> 3634.1847 | T45: =R45+S45 -> 18256.434 | U45: =T45-Q45 -> 16688.219 | V45: =($D$21+$D$21*$H$31)/20 -> 11700 | W45: =$W44+$V45 -> -2700 | X45: =U45-V45 -> 4988.2193 | Y45: =Y44+U45 -> 55099.426 | Z45: =Z44*(1+$H$32) -> 0 | AA45: =AA44+Z45 -> 0 | AB45: =AB44+X45 -> 57799.426
M46: 20 | O46: ='Site - HU'!Y$60 -> 0 | P46: =P45*(1+$H$32) -> 1599.5787 | Q46: =P46+O46+N46 -> 1599.5787 | R46: ='Site - HU'!Y$32 -> 14765.547 | S46: ='Site - HU'!Y$34 -> 3669.7997 | T46: =R46+S46 -> 18435.347 | U46: =T46-Q46 -> 16835.768 | V46: =($D$21+$D$21*$H$31)/20 -> 11700 | W46: =$W45+$V46 -> 9000 | X46: =U46-V46 -> 5135.7681 | Y46: =Y45+U46 -> 71935.194 | Z46: =Z45*(1+$H$32) -> 0 | AA46: =AA45+Z46 -> 0 | AB46: =AB45+X46 -> 62935.194
M48: Total | N48: =SUM(N26:N46) -> 225000 | O48: =SUM(O26:O46) -> 13000 | P48: =SUM(P26:P46) -> 26678.512 | Q48: =SUM(Q26:Q46) -> 264678.51 | R48: =SUM(R26:R46) -> 269606.29 | S48: =SUM(S26:S46) -> 67007.412 | T48: =SUM(T26:T46) -> 336613.71 | U48: =SUM(U26:U46) -> 71935.194 | V48: =SUM(V26:V46) -> 234000 | X48: =SUM(X26:X46) -> 62935.194 | Z48: =SUM(Z27:Z46) -> 0
A87: 1100

Sheet Site - HU
B5: Scheme option | C5: ='Highfields Upper'!D10 -> Highfields upper | L5: Max PPA capacity: | M5: ='New Site'!D33 -> 0
B6: Period count
B7: Year | E7: 0 | F7: =E7+1 -> 1 | G7: =F7+1 -> 2 | H7: =G7+1 -> 3 | I7: =H7+1 -> 4 | J7: =I7+1 -> 5 | K7: =J7+1 -> 6 | L7: =K7+1 -> 7 | M7: =L7+1 -> 8 | ... BM7: =BL7+1 -> 60
E8: =Scenarios!H4 -> 2023 | F8: =E8+1 -> 2024 | G8: =F8+1 -> 2025 | H8: =G8+1 -> 2026 | I8: =H8+1 -> 2027 | J8: =I8+1 -> 2028 | K8: =J8+1 -> 2029 | L8: =K8+1 -> 2030 | M8: =L8+1 -> 2031 | ... BM8: =BL8+1 -> 2083
C9: Totals
B10: Cash flow | C10: =SUM(E10:BM10) -> 892711.75 | E10: =IFERROR(E41+E48+E62, 0) -> -225000 | F10: =IFERROR(F41+F48+F62, 0) -> 14219.199 | G10: =IFERROR(G41+G48+G62, 0) -> 14347.347 | H10: =IFERROR(H41+H48+H62, 0) -> 14476.528 | I10: =IFERROR(I41+I48+I62, 0) -> 14606.746 | J10: =IFERROR(J41+J48+J62, 0) -> 14738.007 | K10: =IFERROR(K41+K48+K62, 0) -> 14870.316 | L10: =IFERROR(L41+L48+L62, 0) -> 15003.68 | ... BM10: =IFERROR(BM41+BM48+BM62, 0) -> 23699.216
B11: Cumulative cash position | E11: =IFERROR(E10+C11, 0) -> -225000 | F11: =IFERROR(F10+E11, 0) -> -210780.8 | G11: =IFERROR(G10+F11, 0) -> -196433.45 | H11: =IFERROR(H10+G11, 0) -> -181956.93 | I11: =IFERROR(I10+H11, 0) -> -167350.18 | J11: =IFERROR(J10+I11, 0) -> -152612.17 | K11: =IFERROR(K10+J11, 0) -> -137741.86 | L11: =IFERROR(L10+K11, 0) -> -122738.18 | M11: =IFERROR(M10+L11, 0) -> -107600.07 | ... BM11: =IFERROR(BM10+BL11, 0) -> 892711.75
B12: IRR (20 years) | C12: =SUM(E12:BM12) -> -1.0596628 | F12: =IRR(E10:F10,0) -> -0.93680356 | G12: =IRR(E10:G10,0) -> -0.7139132 | H12: =IRR(E10:H10,0) -> -0.52192111 | I12: =IRR(E10:I10,0) -> -0.38464865 | J12: =IRR(E10:J10,0) -> -0.28734224 | K12: =IRR(E10:K10,0) -> -0.21684918 | L12: =IRR(E10:L10,0) -> -0.16443932 | M12: =IRR(E10:M10,0) -> -0.12451825 | N12: =IRR(E10:N10,0) -> -0.093454165 | O12: =IRR(E10:O10,0) -> -0.068830945 | P12: =IRR(E10:P10,0) -> -0.048998574 | Q12: =IRR(E10:Q10,0) -> -0.032801807 | R12: =IRR(E10:R10,0) -> -0.019413185 | S12: =IRR(E10:S10,0) -> -0.0082277434 | T12: =IRR(E10:T10,0) -> 0.0012050229 | U12: =IRR(E10:U10,0) -> 0.0092261775 | V12: =IRR(E10:V10,0) -> 0.016097786 | W12: =IRR(E10:W10,0) -> 0.02202392 | X12: =IRR(E10:X10,0) -> 0.027165427 | Y12: =IRR(E10:Y10,0) -> 0.031650478 | Z12: =IRR(E10:Z10,0) -> 0.035582238 | AA12: =IRR(E10:AA10,0) -> 0.0390445 | AB12: =IRR(E10:AB10,0) -> 0.0421059 | AC12: =IRR(E10:AC10,0) -> 0.044823088 | AD12: =IRR(E10:AD10,0) -> 0.047243162 | AE12: =IRR(E10:AE10,0) -> 0.049405528 | AF12: =IRR(E10:AF10,0) -> 0.051343364 | AG12: =IRR(E10:AG10,0) -> 0.053084763 | AH12: =IRR(E10:AH10,0) -> 0.054653634 | AI12: =IRR(E10:AI10,1000) -> 0.05607043 | AJ12: =IRR(E10:AJ10,0) -> 0.057352726 | AK12: =IRR(E10:AK10,0) -> 0.05851569 | AL12: =IRR(E10:AL10,0) -> 0.059572467 | AM12: =IRR(E10:AM10,0) -> 0.060534492 | AN12: =IRR(E10:AN10,0) -> 0.061411746 | AO12: =IRR(E10:AO10,0) -> 0.062212973 | AP12: =IRR(E10:AP10,0) -> 0.062945859 | AQ12: =IRR(E10:AQ10,0) -> 0.063617177 | AR12: =IRR(E10:AR10,0) -> 0.064232915 | AS12: =IRR(E10:AS10,0) -> 0.06479838 | AT12: =IRR(E10:AT10,0) -> 0.06531829 | AU12: =IRR(E10:AU10,0) -> 0.065796847 | AV12: =IRR(E10:AV10,0) -> 0.066237803 | AW12: =IRR(E10:AW10,0) -> 0.066644518 | AX12: =IRR(E10:AX10,0) -> 0.067020003 | AY12: =IRR(E10:AY10,0) -> 0.067366965 | AZ12: =IRR(E10:AZ10,0) -> 0.067687841 | BA12: =IRR(E10:BA10,0) -> 0.06798483 | BB12: =IRR(E10:BB10,0) -> 0.068259918 | BC12: =IRR(E10:BC10,0) -> 0.068514903 | BD12: =IRR(E10:BD10,0) -> 0.068751417 | BE12: =IRR(E10:BE10,0) -> 0.068970938 | BF12: =IRR(E10:BF10,0) -> 0.069174813 | BG12: =IRR(E10:BG10,0) -> 0.069364267 | BH12: =IRR(E10:BH10,0) -> 0.069540418 | BI12: =IRR(E10:BI10,0) -> 0.069704287 | BJ12: =IRR(E10:BJ10,0) -> 0.069856806 | BK12: =IRR(E10:BK10,0) -> 0.069998828 | BL12: =IRR(E10:BL10,0) -> 0.070131137 | BM12: =IRR(E10:BM10,0) -> 0.070254448
